BEGIN:VCALENDAR
VERSION:2.0
PRODID:-//Library Market//iCal Export//EN
BEGIN:VEVENT
SUMMARY:Tuesday Tales
UID:21721
DTSTAMP:20260424T071900Z
DTSTART:20261110T160000Z
DTEND:20261110T163000Z
LOCATION:Oswego Campus, 32 West Jefferson St, Oswego, IL 60543, United Sta
 tes
ROOM: Meeting Room
DESCRIPTION:
URL:https://www.oswego.lib.il.us/event/tuesday-tales-21721
END:VEVENT
END:VCALENDAR
