BEGIN:VCALENDAR
VERSION:2.0
PRODID:-//Library Market//iCal Export//EN
BEGIN:VEVENT
SUMMARY:Tuesday Tales
UID:23929
DTSTAMP:20260424T074100Z
DTSTART:20261006T154500Z
DTEND:20261006T161500Z
LOCATION:Oswego Campus, 32 West Jefferson St, Oswego, IL 60543, United Sta
 tes
ROOM: Meeting Room
DESCRIPTION:
URL:https://www.oswego.lib.il.us/event/tuesday-tales-23929
END:VEVENT
END:VCALENDAR
