BEGIN:VCALENDAR
VERSION:2.0
PRODID:-//Library Market//iCal Export//EN
BEGIN:VEVENT
SUMMARY:Tuesday Tales
UID:23933
DTSTAMP:20260424T071800Z
DTSTART:20261103T164500Z
DTEND:20261103T171500Z
LOCATION:Oswego Campus, 32 West Jefferson St, Oswego, IL 60543, United Sta
 tes
ROOM: Meeting Room
DESCRIPTION:
URL:https://www.oswego.lib.il.us/event/tuesday-tales-23933
END:VEVENT
END:VCALENDAR
