BEGIN:VCALENDAR
VERSION:2.0
PRODID:-//Library Market//iCal Export//EN
BEGIN:VEVENT
SUMMARY:Teen Volunteer Opportunity-Sew What
UID:24582
DTSTAMP:20260421T070900Z
DTSTART:20260718T184500Z
DTEND:20260718T200000Z
LOCATION:Montgomery Campus, 1111 Reading Dr, Montgomery, IL 60538, United 
 States
ROOM: Youth Department
DESCRIPTION:Help out with our Youth Services Sew What Program. Volunteers 
 with sewing experience are preferred.Check in at the Montgomery Youth Serv
 ices Department Desk
URL:https://www.oswego.lib.il.us/event/teen-volunteer-opportunity-sew-what
 -24582
END:VEVENT
END:VCALENDAR
