BEGIN:VCALENDAR
VERSION:2.0
PRODID:-//Library Market//iCal Export//EN
BEGIN:VEVENT
SUMMARY:Teen Volunteer Opportunity - International Taste Test
UID:24587
DTSTAMP:20260421T110000Z
DTSTART:20260725T184500Z
DTEND:20260725T194500Z
LOCATION:Montgomery Campus, 1111 Reading Dr, Montgomery, IL 60538, United 
 States
ROOM: Teen Volunteer Opportunity - International Taste Test
DESCRIPTION:Help with our International Food Tasting Program at the Montgo
 mery campus Youth Services area.Check in at the Youth Services desk.
URL:https://www.oswego.lib.il.us/event/teen-volunteer-opportunity-internat
 ional-taste-test-24587
END:VEVENT
END:VCALENDAR
