BEGIN:VCALENDAR
VERSION:2.0
PRODID:-//Library Market//iCal Export//EN
BEGIN:VEVENT
SUMMARY:Teen Volunteer Opportunity - Animal Crossing IRL
UID:24590
DTSTAMP:20260421T110000Z
DTSTART:20260713T184500Z
DTEND:20260713T201500Z
LOCATION:Montgomery Campus, 1111 Reading Dr, Montgomery, IL 60538, United 
 States
ROOM: Teen Volunteer Opportunity - Animal Crossing IRL
DESCRIPTION:Help with our Animal Crossing IRL program at the Montgomery ca
 mpus Youth Services area.Check in at the Youth Services desk.
URL:https://www.oswego.lib.il.us/event/teen-volunteer-opportunity-animal-c
 rossing-irl-24590
END:VEVENT
END:VCALENDAR
