BEGIN:VCALENDAR
VERSION:2.0
PRODID:-//Library Market//iCal Export//EN
BEGIN:VEVENT
SUMMARY:Teen Volunteer Opportunity - Paint Party
UID:24591
DTSTAMP:20260421T051500Z
DTSTART:20260616T224500Z
DTEND:20260616T234500Z
LOCATION:Oswego Campus, 32 West Jefferson St, Oswego, IL 60543, United Sta
 tes
ROOM: Teen Volunteer Opportunity - Paint Party
DESCRIPTION:Help with our Paint Party program at the Oswego campus Youth S
 ervices area.Check in at the Youth Services desk.
URL:https://www.oswego.lib.il.us/event/teen-volunteer-opportunity-paint-pa
 rty-24591
END:VEVENT
END:VCALENDAR
