BEGIN:VCALENDAR
VERSION:2.0
PRODID:-//Library Market//iCal Export//EN
BEGIN:VEVENT
SUMMARY:Teen Volunteer Opportunity - Pool Noodle Rodeo
UID:24593
DTSTAMP:20260421T110000Z
DTSTART:20260720T201500Z
DTEND:20260720T214500Z
LOCATION:Montgomery Campus, 1111 Reading Dr, Montgomery, IL 60538, United 
 States
ROOM: Teen Volunteer Opportunity - Pool Noodle Rodeo
DESCRIPTION:Help with our Pool Noodle Rodeo program at the Oswego campus Y
 outh Services area.Check in at the Youth Services desk.
URL:https://www.oswego.lib.il.us/event/teen-volunteer-opportunity-pool-noo
 dle-rodeo-24593
END:VEVENT
END:VCALENDAR
