BEGIN:VCALENDAR
VERSION:2.0
PRODID:-//Library Market//iCal Export//EN
BEGIN:VEVENT
SUMMARY:Teen Volunteer Opportunity - American&#039;s 250th Celebration
UID:24598
DTSTAMP:20260421T110000Z
DTSTART:20260711T190000Z
DTEND:20260711T210000Z
LOCATION:Montgomery Campus, 1111 Reading Dr, Montgomery, IL 60538, United 
 States
ROOM: Teen Volunteer Opportunity - American&#039;s 250th Celebration
DESCRIPTION:Help with our 250th Celebration program at the Montgomery Camp
 us. Volunteers will be assisting with various activities.Check in at the Y
 outh Services desk.
URL:https://www.oswego.lib.il.us/event/teen-volunteer-opportunity-american
 s-250th-celebration-24598
END:VEVENT
END:VCALENDAR
