BEGIN:VCALENDAR
VERSION:2.0
PRODID:-//Library Market//iCal Export//EN
BEGIN:VEVENT
SUMMARY:Teen Volunteer Opportunity - Stamp-a-Shirt
UID:24600
DTSTAMP:20260421T051500Z
DTSTART:20260623T180000Z
DTEND:20260623T200000Z
LOCATION:Montgomery Campus, 1111 Reading Dr, Montgomery, IL 60538, United 
 States
ROOM: Teen Volunteer Opportunity - Stamp-a-Shirt
DESCRIPTION:Help with our Stamp-a-Shirt program at the Montgomery Campus.Â
  Check in at the Youth Services desk.
URL:https://www.oswego.lib.il.us/event/teen-volunteer-opportunity-stamp-sh
 irt-24600
END:VEVENT
END:VCALENDAR
