BEGIN:VCALENDAR
VERSION:2.0
PRODID:-//Library Market//iCal Export//EN
BEGIN:VEVENT
SUMMARY:Teen Volunteer Opportunity - Stamp-a-Shirt
UID:24601
DTSTAMP:20260421T052300Z
DTSTART:20260623T220000Z
DTEND:20260624T000000Z
LOCATION:Montgomery Campus, 1111 Reading Dr, Montgomery, IL 60538, United 
 States
ROOM: Teen Volunteer Opportunity - Stamp-a-Shirt
DESCRIPTION:Help with our Stamp-a-Shirt program at the Montgomery Campus.Â
  Check in at the Youth Services desk.
URL:https://www.oswego.lib.il.us/event/teen-volunteer-opportunity-stamp-sh
 irt-24601
END:VEVENT
END:VCALENDAR
