BEGIN:VCALENDAR
VERSION:2.0
PRODID:-//Library Market//iCal Export//EN
BEGIN:VEVENT
SUMMARY:Dino Drop In
UID:25044
DTSTAMP:20260424T071800Z
DTSTART:20261130T170000Z
DTEND:20261130T180000Z
LOCATION:Oswego Campus, 32 West Jefferson St, Oswego, IL 60543, United Sta
 tes
ROOM: Meeting Room
DESCRIPTION:Drop in for some dinosaur themed activities for your hatchling
 s!For families with babies - preschool.  Siblings welcome.
URL:https://www.oswego.lib.il.us/event/dino-drop-25044
END:VEVENT
END:VCALENDAR
