BEGIN:VCALENDAR
VERSION:2.0
PRODID:-//Library Market//iCal Export//EN
BEGIN:VEVENT
SUMMARY:Special Hearing for Property Purchase
UID:25078
DTSTAMP:20260424T040800Z
DTSTART:20260527T223000Z
DTEND:20260527T223000Z
LOCATION:Montgomery Campus, 1111 Reading Dr, Montgomery, IL 60538, United 
 States
ROOM: Special Hearing for Property Purchase
DESCRIPTION:The Board of Library Trustees of the Oswego Public Library Dis
 trict, Kane, Kendall and Will Counties, Illinois, will determine a finance
  plan for acquisition of property at its meeting to be held on May 27, 202
 6 at 5:30 p.m. at the Montgomery Campus Library, 1111 Reading Drive, Montg
 omery, Illinois. At the meeting the public will be given an opportunity to
  be heard on the proposed property acquisition and the proposed method of 
 paying the costs from accumulations/reserves. The estimated cost of acquir
 ing the property is $515,000. The property proposed to be purchased is co
 mmonly known as 55 North Madison Street, Oswego, Illinois, P.I.N. 03-17-18
 0-003. A copy of the contract for the property is available at the Librar
 y, 32 West Jefferson Street, Oswego, Illinois.
URL:https://www.oswego.lib.il.us/event/special-hearing-property-purchase-2
 5078
END:VEVENT
END:VCALENDAR
