BEGIN:VCALENDAR
VERSION:2.0
PRODID:-//Library Market//iCal Export//EN
BEGIN:VEVENT
SUMMARY:Wonder Lab Jr.
UID:25147
DTSTAMP:20260424T055700Z
DTSTART:20260925T153000Z
DTEND:20260925T163000Z
LOCATION:Montgomery Campus, 1111 Reading Dr, Montgomery, IL 60538, United 
 States
ROOM: Youth Services Patio
DESCRIPTION:Curious children and caregivers will explore discovery-based a
 ctivities featuring a different theme each month. For ages 3-5.
URL:https://www.oswego.lib.il.us/event/wonder-lab-jr-25147
END:VEVENT
END:VCALENDAR
