BEGIN:VCALENDAR
VERSION:2.0
PRODID:-//Library Market//iCal Export//EN
BEGIN:VEVENT
SUMMARY:Wonder Lab Jr.
UID:25148
DTSTAMP:20260424T102300Z
DTSTART:20261120T163000Z
DTEND:20261120T173000Z
LOCATION:Montgomery Campus, 1111 Reading Dr, Montgomery, IL 60538, United 
 States
ROOM: Youth Services Patio
DESCRIPTION:Curious children and caregivers will explore discovery-based a
 ctivities featuring a different theme each month. For ages 3-5.
URL:https://www.oswego.lib.il.us/event/wonder-lab-jr-25148
END:VEVENT
END:VCALENDAR
