BEGIN:VCALENDAR
VERSION:2.0
PRODID:-//Library Market//iCal Export//EN
BEGIN:VEVENT
SUMMARY:Edible Play
UID:25149
DTSTAMP:20260424T060500Z
DTSTART:20261002T153000Z
DTEND:20261002T160000Z
LOCATION:Montgomery Campus, 1111 Reading Dr, Montgomery, IL 60538, United 
 States
ROOM: Youth Program Room
DESCRIPTION:Explore a feast for the senses with taste-safe play activities
  for little ones, dress for a mess!For ages 12-24 months, with a caregiver
 .
URL:https://www.oswego.lib.il.us/event/edible-play-25149
END:VEVENT
END:VCALENDAR
