BEGIN:VCALENDAR
VERSION:2.0
PRODID:-//Library Market//iCal Export//EN
BEGIN:VEVENT
SUMMARY:Crow Party
UID:25150
DTSTAMP:20260424T063800Z
DTSTART:20261017T190000Z
DTEND:20261017T193000Z
LOCATION:Montgomery Campus, 1111 Reading Dr, Montgomery, IL 60538, United 
 States
ROOM: Youth Program Room
DESCRIPTION:Kids will make a crow themed craft and play games to win shiny
  trinkets.For grades 3-5.
URL:https://www.oswego.lib.il.us/event/crow-party-25150
END:VEVENT
END:VCALENDAR
