BEGIN:VCALENDAR
VERSION:2.0
PRODID:-//Library Market//iCal Export//EN
BEGIN:VEVENT
SUMMARY:Rhythm and Rhyme
UID:25151
DTSTAMP:20260424T063800Z
DTSTART:20260905T190000Z
DTEND:20260905T200000Z
LOCATION:Montgomery Campus, 1111 Reading Dr, Montgomery, IL 60538, United 
 States
ROOM: Youth Program Room
DESCRIPTION:Come learn and play the games that have entertained kids for g
 enerations.For grades 3-5.
URL:https://www.oswego.lib.il.us/event/rhythm-and-rhyme-25151
END:VEVENT
END:VCALENDAR
