BEGIN:VCALENDAR
VERSION:2.0
PRODID:-//Library Market//iCal Export//EN
BEGIN:VEVENT
SUMMARY:Spooky Sensory Stations
UID:25152
DTSTAMP:20260424T074100Z
DTSTART:20261023T153000Z
DTEND:20261023T163000Z
LOCATION:Montgomery Campus, 1111 Reading Dr, Montgomery, IL 60538, United 
 States
ROOM: Youth Program Room
DESCRIPTION:Drop in for some spooky hands on fun as we use our senses to e
 xplore Halloween!For ages 3-5.
URL:https://www.oswego.lib.il.us/event/spooky-sensory-stations-25152
END:VEVENT
END:VCALENDAR
