BEGIN:VCALENDAR
VERSION:2.0
PRODID:-//Library Market//iCal Export//EN
BEGIN:VEVENT
SUMMARY:T-Rex Tea Party
UID:25155
DTSTAMP:20260424T071800Z
DTSTART:20261128T200000Z
DTEND:20261128T203000Z
LOCATION:Montgomery Campus, 1111 Reading Dr, Montgomery, IL 60538, United 
 States
ROOM: Youth Program Room
DESCRIPTION:Wear your fanciest dinosaur attire for a dino-themed tea party
  with games and a craft!For kindergarten - grade 2.
URL:https://www.oswego.lib.il.us/event/t-rex-tea-party-25155
END:VEVENT
END:VCALENDAR
