BEGIN:VCALENDAR
VERSION:2.0
PRODID:-//Library Market//iCal Export//EN
BEGIN:VEVENT
SUMMARY:Stuffed Animal Sleepover
UID:25158
DTSTAMP:20260424T074000Z
DTSTART:20261008T230000Z
DTEND:20261008T231500Z
LOCATION:Montgomery Campus, 1111 Reading Dr, Montgomery, IL 60538, United 
 States
ROOM: Youth Department
DESCRIPTION:Drop off your favorite stuffed friend at the library and see w
 hat kind of fun they have while the library is closed!  Pick your friend 
 up the next day with a surprise!Pickup for this group will be on Friday, O
 ctober 9 starting at 2:30 pm.For Preschool - Grade 5
URL:https://www.oswego.lib.il.us/event/stuffed-animal-sleepover-25158
END:VEVENT
END:VCALENDAR
