BEGIN:VCALENDAR
VERSION:2.0
PRODID:-//Library Market//iCal Export//EN
BEGIN:VEVENT
SUMMARY:Faygo Taste Test
UID:25163
DTSTAMP:20260424T074000Z
DTSTART:20261114T200000Z
DTEND:20261114T203000Z
LOCATION:Montgomery Campus, 1111 Reading Dr, Montgomery, IL 60538, United 
 States
ROOM: Youth Program Room
DESCRIPTION:Come sip some soda and see if you can guess the flavor!For gra
 des 3-5.
URL:https://www.oswego.lib.il.us/event/faygo-taste-test-25163
END:VEVENT
END:VCALENDAR
