BEGIN:VCALENDAR
VERSION:2.0
PRODID:-//Library Market//iCal Export//EN
BEGIN:VEVENT
SUMMARY:Baby &amp; Me Social Time
UID:25197
DTSTAMP:20260424T074000Z
DTSTART:20261118T153000Z
DTEND:20261118T161500Z
LOCATION:Montgomery Campus, 1111 Reading Dr, Montgomery, IL 60538, United 
 States
ROOM: Youth Program Room
DESCRIPTION:Stop in for some baby and caregiver social time.  Make new fr
 iends and play with toys!For ages 6 - 20 months.
URL:https://www.oswego.lib.il.us/event/baby-me-social-time-25197
END:VEVENT
END:VCALENDAR
