BEGIN:VCALENDAR
VERSION:2.0
PRODID:-//Library Market//iCal Export//EN
BEGIN:VEVENT
SUMMARY:Tot &amp; Me Social Time
UID:25200
DTSTAMP:20260424T074000Z
DTSTART:20260909T153000Z
DTEND:20260909T161500Z
LOCATION:Montgomery Campus, 1111 Reading Dr, Montgomery, IL 60538, United 
 States
ROOM: Youth Program Room
DESCRIPTION:Stop in for some tot and caregiver social time.  Make new fri
 ends and play with toys!For ages 21-30 months.
URL:https://www.oswego.lib.il.us/event/tot-me-social-time-25200
END:VEVENT
END:VCALENDAR
