BEGIN:VCALENDAR
VERSION:2.0
PRODID:-//Library Market//iCal Export//EN
BEGIN:VEVENT
SUMMARY:Mock Newbery
UID:25210
DTSTAMP:20260424T084900Z
DTSTART:20261101T050000Z
DTEND:20270123T060000Z
LOCATION:123 Example, Example, IL 55555, United States
ROOM: Mock Newbery
DESCRIPTION:Check out this year&#039;s Mock Newbery nominees and vote for 
 which one you think should be an award winner!  Voting begins in January.
   Voters receive a book!For Grade 4 - Adults
URL:https://www.oswego.lib.il.us/event/mock-newbery-25210
END:VEVENT
END:VCALENDAR
