BEGIN:VCALENDAR
VERSION:2.0
PRODID:-//Library Market//iCal Export//EN
BEGIN:VEVENT
SUMMARY:Interactive Movie Kits
UID:25213
DTSTAMP:20260424T071800Z
DTSTART:20261123T060000Z
DTEND:20261123T060000Z
LOCATION:Montgomery Campus, 1111 Reading Dr, Montgomery, IL 60538, United 
 States
ROOM: Youth Program Room
DESCRIPTION:Pick up a bag with activities to enjoy while watching this mon
 th&#039;s movie!  While supplies last.For families with children ages 4-1
 1
URL:https://www.oswego.lib.il.us/event/interactive-movie-kits-25213
END:VEVENT
END:VCALENDAR
