BEGIN:VCALENDAR
VERSION:2.0
PRODID:-//Library Market//iCal Export//EN
BEGIN:VEVENT
SUMMARY:Little Reader Bundles
UID:25214
DTSTAMP:20260424T055600Z
DTSTART:20260924T050000Z
DTEND:20260924T050000Z
LOCATION:Montgomery Campus, 1111 Reading Dr, Montgomery, IL 60538, United 
 States
ROOM: Youth Department
DESCRIPTION:Pick up an early literacy activity and a bundle of board or pi
 cture books to read to your little readers.  While supplies last.For fami
 lies with children ages 2 - 4.
URL:https://www.oswego.lib.il.us/event/little-reader-bundles-25214
END:VEVENT
END:VCALENDAR
