BEGIN:VCALENDAR
VERSION:2.0
PRODID:-//Library Market//iCal Export//EN
BEGIN:VEVENT
SUMMARY:Sensory Friendly Programs - Book Character Bingo
UID:25220
DTSTAMP:20260424T074000Z
DTSTART:20261108T200000Z
DTEND:20261108T210000Z
LOCATION:Montgomery Campus, 1111 Reading Dr, Montgomery, IL 60538, United 
 States
ROOM: Youth Program Room
DESCRIPTION:Play book character themed bingo to win small prizes and a boo
 k!For grades 4 - 5.
URL:https://www.oswego.lib.il.us/event/sensory-friendly-programs-book-char
 acter-bingo-25220
END:VEVENT
END:VCALENDAR
