BEGIN:VCALENDAR
VERSION:2.0
PRODID:-//Library Market//iCal Export//EN
BEGIN:VEVENT
SUMMARY:Halloween Bingo
UID:25222
DTSTAMP:20260424T074100Z
DTSTART:20261030T000000Z
DTEND:20261030T003000Z
LOCATION:Montgomery Campus, 1111 Reading Dr, Montgomery, IL 60538, United 
 States
ROOM: Youth Program Room
DESCRIPTION:Come in to play a few rounds of bingo and win some eerie prize
 s.For grades 2 -5.
URL:https://www.oswego.lib.il.us/event/halloween-bingo-25222
END:VEVENT
END:VCALENDAR
