BEGIN:VCALENDAR
VERSION:2.0
PRODID:-//Library Market//iCal Export//EN
BEGIN:VEVENT
SUMMARY:Play Doh Stations
UID:25224
DTSTAMP:20260424T055700Z
DTSTART:20260926T153000Z
DTEND:20260926T163000Z
LOCATION:Montgomery Campus, 1111 Reading Dr, Montgomery, IL 60538, United 
 States
ROOM: Youth Program Room
DESCRIPTION:Come in to squish, mold, and create with Play Doh!For ages 2 -
  5.
URL:https://www.oswego.lib.il.us/event/play-doh-stations-25224
END:VEVENT
END:VCALENDAR
