BEGIN:VCALENDAR
VERSION:2.0
PRODID:-//Library Market//iCal Export//EN
BEGIN:VEVENT
SUMMARY:Book Bites
UID:25226
DTSTAMP:20260424T054500Z
DTSTART:20260925T000000Z
DTEND:20260925T004500Z
LOCATION:Oswego Campus, 32 West Jefferson St, Oswego, IL 60543, United Sta
 tes
ROOM: Youth Program Room
DESCRIPTION:Come have a snack and talk about books!For grades 4 - 5.
URL:https://www.oswego.lib.il.us/event/book-bites-25226
END:VEVENT
END:VCALENDAR
