BEGIN:VCALENDAR
VERSION:2.0
PRODID:-//Library Market//iCal Export//EN
BEGIN:VEVENT
SUMMARY:Charm Bracelet Creations
UID:25231
DTSTAMP:20260424T102300Z
DTSTART:20261120T010000Z
DTEND:20261120T013000Z
LOCATION:Oswego Campus, 32 West Jefferson St, Oswego, IL 60543, United Sta
 tes
ROOM: Youth Program Room
DESCRIPTION:Come and create your own charm bracelet!For grades 4-5.
URL:https://www.oswego.lib.il.us/event/charm-bracelet-creations-25231
END:VEVENT
END:VCALENDAR
