BEGIN:VCALENDAR
VERSION:2.0
PRODID:-//Library Market//iCal Export//EN
BEGIN:VEVENT
SUMMARY:Baby Storytime
UID:25251
DTSTAMP:20260424T071800Z
DTSTART:20261109T160000Z
DTEND:20261109T163000Z
LOCATION:Oswego Campus, 32 West Jefferson St, Oswego, IL 60543, United Sta
 tes
ROOM: Youth Program Room
DESCRIPTION:Sign up for a storytime with songs, rhymes, and stories for yo
 ur baby!For ages 6 - 23 months.
URL:https://www.oswego.lib.il.us/event/baby-storytime-25251
END:VEVENT
END:VCALENDAR
