BEGIN:VCALENDAR
VERSION:2.0
PRODID:-//Library Market//iCal Export//EN
BEGIN:VEVENT
SUMMARY:After School Book Club
UID:25256
DTSTAMP:20260424T074100Z
DTSTART:20261014T213000Z
DTEND:20261014T220000Z
LOCATION:Oswego Campus, 32 West Jefferson St, Oswego, IL 60543, United Sta
 tes
ROOM: Youth Program Room
DESCRIPTION:Get together to listen to one of our Monarch award books and e
 njoy a related activity!For Kindergarten - Grade 2
URL:https://www.oswego.lib.il.us/event/after-school-book-club-25256
END:VEVENT
END:VCALENDAR
