BEGIN:VCALENDAR
VERSION:2.0
PRODID:-//Library Market//iCal Export//EN
BEGIN:VEVENT
SUMMARY:After School Book Club
UID:25257
DTSTAMP:20260424T084900Z
DTSTART:20261104T223000Z
DTEND:20261104T230000Z
LOCATION:Oswego Campus, 32 West Jefferson St, Oswego, IL 60543, United Sta
 tes
ROOM: Youth Program Room
DESCRIPTION:Get together to listen to one of our Monarch award books and e
 njoy a related activity!For Kindergarten - Grade 2
URL:https://www.oswego.lib.il.us/event/after-school-book-club-25257
END:VEVENT
END:VCALENDAR
