BEGIN:VCALENDAR
VERSION:2.0
PRODID:-//Library Market//iCal Export//EN
BEGIN:VEVENT
SUMMARY:Creepy Clay Sculptures
UID:25259
DTSTAMP:20260424T084900Z
DTSTART:20261028T230000Z
DTEND:20261028T233000Z
LOCATION:Oswego Campus, 32 West Jefferson St, Oswego, IL 60543, United Sta
 tes
ROOM: Youth Program Room
DESCRIPTION:Create a creepy sculpture and enjoy a story or two while they 
 dry.For grades 4 &amp; 5.
URL:https://www.oswego.lib.il.us/event/creepy-clay-sculptures-25259
END:VEVENT
END:VCALENDAR
