BEGIN:VCALENDAR
VERSION:2.0
PRODID:-//Library Market//iCal Export//EN
BEGIN:VEVENT
SUMMARY:Halloween Parade
UID:25261
DTSTAMP:20260424T071800Z
DTSTART:20261027T150000Z
DTEND:20261027T153000Z
LOCATION:Oswego Campus, 32 West Jefferson St, Oswego, IL 60543, United Sta
 tes
ROOM: Meeting Room
DESCRIPTION:Enjoy storytime and then trick or treat your way around the li
 brary!Families with babies - grade 5.
URL:https://www.oswego.lib.il.us/event/halloween-parade-25261
END:VEVENT
END:VCALENDAR
