BEGIN:VCALENDAR
VERSION:2.0
PRODID:-//Library Market//iCal Export//EN
BEGIN:VEVENT
SUMMARY:Dino Dig
UID:25276
DTSTAMP:20260424T071800Z
DTSTART:20261129T190000Z
DTEND:20261129T193000Z
LOCATION:Oswego Campus, 32 West Jefferson St, Oswego, IL 60543, United Sta
 tes
ROOM: Youth Program Room
DESCRIPTION:Learn how paleontologists dig for fossils and start your own e
 xcavation at the library!For grades 3 - 5.
URL:https://www.oswego.lib.il.us/event/dino-dig-25276
END:VEVENT
END:VCALENDAR
