BEGIN:VCALENDAR
VERSION:2.0
PRODID:-//Library Market//iCal Export//EN
BEGIN:VEVENT
SUMMARY:Sew What
UID:25278
DTSTAMP:20260424T102300Z
DTSTART:20261121T200000Z
DTEND:20261121T213000Z
LOCATION:Montgomery Campus, 1111 Reading Dr, Montgomery, IL 60538, United 
 States
ROOM: Youth Program Room
DESCRIPTION:Register to learn how to use a sewing machine and work on a pr
 oject to improve your sewing skills.Grades 4 - 5
URL:https://www.oswego.lib.il.us/event/sew-what-25278
END:VEVENT
END:VCALENDAR
