BEGIN:VCALENDAR
VERSION:2.0
PRODID:-//Library Market//iCal Export//EN
BEGIN:VEVENT
SUMMARY:Stories &amp; Cuentos
UID:25279
DTSTAMP:20260424T074100Z
DTSTART:20260901T230000Z
DTEND:20260901T233000Z
LOCATION:Montgomery Campus, 1111 Reading Dr, Montgomery, IL 60538, United 
 States
ROOM: Youth Program Room
DESCRIPTION:Join us for stories and crafts as we share our favorite storie
 s in English and Spanish!  ¡Únase a nosotros para historias y manualida
 des mientras compartimos nuestras historias favoritas en inglés y españo
 l!For ages 3 to 7 years. Siblings are welcome.Para edades de 3 a 7 años. 
 Los hermanos son bienvenidos.
URL:https://www.oswego.lib.il.us/event/stories-cuentos-25279
END:VEVENT
END:VCALENDAR
