BEGIN:VCALENDAR
VERSION:2.0
PRODID:-//Library Market//iCal Export//EN
BEGIN:VEVENT
SUMMARY:Silly Art
UID:25291
DTSTAMP:20260424T071800Z
DTSTART:20261004T180000Z
DTEND:20261004T190000Z
LOCATION:Montgomery Campus, 1111 Reading Dr, Montgomery, IL 60538, United 
 States
ROOM: Youth Program Room
DESCRIPTION:Sign up to create some silly art!For grades 2 - 5.
URL:https://www.oswego.lib.il.us/event/silly-art-25291
END:VEVENT
END:VCALENDAR
