BEGIN:VCALENDAR
VERSION:2.0
PRODID:-//Library Market//iCal Export//EN
BEGIN:VEVENT
SUMMARY:Silly Art
UID:25292
DTSTAMP:20260424T084900Z
DTSTART:20261101T190000Z
DTEND:20261101T200000Z
LOCATION:Montgomery Campus, 1111 Reading Dr, Montgomery, IL 60538, United 
 States
ROOM: Youth Program Room
DESCRIPTION:Sign up to create some silly art!For grades 2 - 5.
URL:https://www.oswego.lib.il.us/event/silly-art-25292
END:VEVENT
END:VCALENDAR
