BEGIN:VCALENDAR
VERSION:2.0
PRODID:-//Library Market//iCal Export//EN
BEGIN:VEVENT
SUMMARY:Paws and Read
UID:25294
DTSTAMP:20260424T071800Z
DTSTART:20261005T233000Z
DTEND:20261006T003000Z
LOCATION:Montgomery Campus, 1111 Reading Dr, Montgomery, IL 60538, United 
 States
ROOM: Youth Program Room
DESCRIPTION:Sit and stay a while to practice your reading with our friends
  from Fox Valley Therapy Dogs. For grades 1 - 3.
URL:https://www.oswego.lib.il.us/event/paws-and-read-25294
END:VEVENT
END:VCALENDAR
