BEGIN:VCALENDAR
VERSION:2.0
PRODID:-//Library Market//iCal Export//EN
BEGIN:VEVENT
SUMMARY:Color-by-Number Bookmarks
UID:25299
DTSTAMP:20260424T074000Z
DTSTART:20261115T200000Z
DTEND:20261115T203000Z
LOCATION:Oswego Campus, 32 West Jefferson St, Oswego, IL 60543, United Sta
 tes
ROOM: Youth Program Room
DESCRIPTION:Sign up and create a bookmark for yourself or one to share wit
 h someone you care about.For kindergarten - grade 2
URL:https://www.oswego.lib.il.us/event/color-number-bookmarks-25299
END:VEVENT
END:VCALENDAR
