BEGIN:VCALENDAR
VERSION:2.0
PRODID:-//Library Market//iCal Export//EN
BEGIN:VEVENT
SUMMARY:Preschool Storytime
UID:25304
DTSTAMP:20260424T074000Z
DTSTART:20261012T230000Z
DTEND:20261012T233000Z
LOCATION:Oswego Campus, 32 West Jefferson St, Oswego, IL 60543, United Sta
 tes
ROOM: Youth Program Room
DESCRIPTION:Stop in before bedtime for a storytime!For ages 4-5, siblings 
 welcome. 
URL:https://www.oswego.lib.il.us/event/preschool-storytime-25304
END:VEVENT
END:VCALENDAR
