BEGIN:VCALENDAR
VERSION:2.0
PRODID:-//Library Market//iCal Export//EN
BEGIN:VEVENT
SUMMARY:DIY Birdfeeder
UID:25309
DTSTAMP:20260424T102300Z
DTSTART:20261124T000000Z
DTEND:20261124T004500Z
LOCATION:Oswego Campus, 32 West Jefferson St, Oswego, IL 60543, United Sta
 tes
ROOM: Youth Program Room
DESCRIPTION:Learn about local birds, enjoy a story, and make a bird feeder
  for our feathery friends.For kindergarten - grade 2
URL:https://www.oswego.lib.il.us/event/diy-birdfeeder-25309
END:VEVENT
END:VCALENDAR
