BEGIN:VCALENDAR
VERSION:2.0
PRODID:-//Library Market//iCal Export//EN
BEGIN:VEVENT
SUMMARY:Saturday Stories
UID:25313
DTSTAMP:20260424T081100Z
DTSTART:20261003T153000Z
DTEND:20261003T160000Z
LOCATION:Oswego Campus, 32 West Jefferson St, Oswego, IL 60543, United Sta
 tes
ROOM: Youth Program Room
DESCRIPTION:Start your weekend fun with a storytime at the library.For fam
 ilies with all ages.
URL:https://www.oswego.lib.il.us/event/saturday-stories-25313
END:VEVENT
END:VCALENDAR
