BEGIN:VCALENDAR
VERSION:2.0
PRODID:-//Library Market//iCal Export//EN
BEGIN:VEVENT
SUMMARY:Homeschool Art Spark
UID:25316
DTSTAMP:20260424T074100Z
DTSTART:20261009T190000Z
DTEND:20261009T200000Z
LOCATION:Oswego Campus, 32 West Jefferson St, Oswego, IL 60543, United Sta
 tes
ROOM: Youth Program Room
DESCRIPTION:Learn about a famous artist or type of art and create your own
  masterpiece.For kindergarten - grade 8.  Caregivers to attend.
URL:https://www.oswego.lib.il.us/event/homeschool-art-spark-25316
END:VEVENT
END:VCALENDAR
