BEGIN:VCALENDAR
VERSION:2.0
PRODID:-//Library Market//iCal Export//EN
BEGIN:VEVENT
SUMMARY:Graphic Novel Book Bundles
UID:25318
DTSTAMP:20260424T084900Z
DTSTART:20261031T050000Z
DTEND:20261031T050000Z
LOCATION:Montgomery Campus, 1111 Reading Dr, Montgomery, IL 60538, United 
 States
ROOM: Youth Department
DESCRIPTION:Can’t get enough of graphic novels? Let one of our librarian
 s surprise you with a graphic novel book box! Sign up each month to get a 
 box with three books and some surprises for you to keep! Books will be che
 cked out to your library card.
URL:https://www.oswego.lib.il.us/event/graphic-novel-book-bundles-25318
END:VEVENT
END:VCALENDAR
