BEGIN:VCALENDAR
VERSION:2.0
PRODID:-//Library Market//iCal Export//EN
BEGIN:VEVENT
SUMMARY:Tiny Tot Art
UID:25322
DTSTAMP:20260424T055700Z
DTSTART:20260924T143000Z
DTEND:20260924T150000Z
LOCATION:Montgomery Campus, 1111 Reading Dr, Montgomery, IL 60538, United 
 States
ROOM: Youth Program Room
DESCRIPTION:Join us for a story, song, dancing, and an art project for our
  tiniest patrons!For ages 18-23 months.
URL:https://www.oswego.lib.il.us/event/tiny-tot-art-25322
END:VEVENT
END:VCALENDAR
